BEGIN:VCALENDAR
VERSION:2.0
CREATED:20260421T210032Z
PRODID:-//Titan America SA/Equisolve Calendar v1.0//EN
METHOD:PUBLISH
BEGIN:VEVENT
UID:c4cce3e511fe1f76fa47e2b235133e2a
DTSTAMP:20260424T131617Z
DTSTART:20260506T120000Z
DTEND:20260506T130000Z
SUMMARY:First Quarter 2026 Earnings Call
DESCRIPTION:First Quarter 2026 Earnings Call\nDate: May 6\, 2026 8:00 am EDT\nWebcast: https://viavid.webcasts.com/starthere.jsp?ei=1760372&tp_key=f3434a6415
END:VEVENT
END:VCALENDAR
